BEGIN:VCALENDAR
VERSION:2.0
PRODID:-//hacksw/handcal//NONSGML v1.0//EN
CALSCALE:GREGORIAN
BEGIN:VEVENT
SUMMARY:JAN PLEWKA & MARCO SCHMEDTJE 
DTSTART:20260911T180000Z
GEO:51.07124;13.75051
LOCATION:Filmtheater Schauburg\, Königsbrücker Straße 55\, 01099 Dresden
DESCRIPTION:
URL;VALUE=URI:http://public.kika-dresden.de/termin1580556.html
DTSTAMP:20260419T183016Z
UID:69e51f38e70f5
END:VEVENT
END:VCALENDAR