BEGIN:VCALENDAR
VERSION:2.0
PRODID:-//hacksw/handcal//NONSGML v1.0//EN
CALSCALE:GREGORIAN
BEGIN:VEVENT
SUMMARY:Humorzone 2027: MIRJA BOES & DIE HONKEYDONKEYS
DTSTART:20270314T193000Z
GEO:51.07124;13.75051
LOCATION:Filmtheater Schauburg\, Königsbrücker Straße 55\, 01099 Dresden
DESCRIPTION:
URL;VALUE=URI:http://public.kika-dresden.de/termin1583579.html
DTSTAMP:20260420T114122Z
UID:69e610e203e4d
END:VEVENT
END:VCALENDAR