BEGIN:VCALENDAR
VERSION:2.0
PRODID:-//hacksw/handcal//NONSGML v1.0//EN
CALSCALE:GREGORIAN
BEGIN:VEVENT
SUMMARY:Humorzone 2027: R-ZIEHER (YVES MACAK)
DTSTART:20270314T170000Z
GEO:51.07124;13.75051
LOCATION:Filmtheater Schauburg\, Königsbrücker Straße 55\, 01099 Dresden
DESCRIPTION:
URL;VALUE=URI:http://public.kika-dresden.de/termin1586417.html
DTSTAMP:20260421T080949Z
UID:69e730cd1de37
END:VEVENT
END:VCALENDAR