BEGIN:VCALENDAR
VERSION:2.0
PRODID:-//hacksw/handcal//NONSGML v1.0//EN
CALSCALE:GREGORIAN
BEGIN:VEVENT
SUMMARY:Drei Esel in Albanien - Wanderabenteuer mit Langohr Jonny in Albanien\, Bosnien und Montenegro
DTSTART:20261108T100000Z
GEO:51.07124;13.75051
LOCATION:Filmtheater Schauburg\, Königsbrücker Straße 55\, 01099 Dresden
DESCRIPTION:
URL;VALUE=URI:http://public.kika-dresden.de/termin1590127.html
DTSTAMP:20260425T145713Z
UID:69ecd6490080e
END:VEVENT
END:VCALENDAR