BEGIN:VCALENDAR
VERSION:2.0
PRODID:-//hacksw/handcal//NONSGML v1.0//EN
CALSCALE:GREGORIAN
BEGIN:VEVENT
SUMMARY:VERTRAU MIR  - 800 Tage nach Osten
DTSTART:20270228T160000Z
GEO:51.07124;13.75051
LOCATION:Filmtheater Schauburg\, Königsbrücker Straße 55\, 01099 Dresden
DESCRIPTION:
URL;VALUE=URI:http://public.kika-dresden.de/termin1591389.html
DTSTAMP:20260422T091621Z
UID:69e891e5671b4
END:VEVENT
END:VCALENDAR