BEGIN:VCALENDAR
VERSION:2.0
PRODID:-//hacksw/handcal//NONSGML v1.0//EN
CALSCALE:GREGORIAN
BEGIN:VEVENT
SUMMARY:VERRÜCKT NACH DIESER WELT - Abenteuer zwischen Himmel und Erde
DTSTART:20270409T180000Z
GEO:51.07124;13.75051
LOCATION:Filmtheater Schauburg\, Königsbrücker Straße 55\, 01099 Dresden
DESCRIPTION:
URL;VALUE=URI:http://public.kika-dresden.de/termin1591395.html
DTSTAMP:20260422T091558Z
UID:69e891ced5d28
END:VEVENT
END:VCALENDAR