BEGIN:VCALENDAR
VERSION:2.0
PRODID:-//hacksw/handcal//NONSGML v1.0//EN
CALSCALE:GREGORIAN
BEGIN:VEVENT
SUMMARY:Monsieur Robert kennt kein Pardon
DTSTART:20260504T180000Z
DTEND:20260504T195000Z
GEO:51.04594;13.67510
LOCATION:Passage\, Leutewitzer Ring 5\, 01169 Dresden
DESCRIPTION:
URL;VALUE=URI:http://public.kika-dresden.de/termin1593225.html
DTSTAMP:20260426T031341Z
UID:69ed82e5a99fd
END:VEVENT
END:VCALENDAR