BEGIN:VCALENDAR
VERSION:2.0
PRODID:-//hacksw/handcal//NONSGML v1.0//EN
CALSCALE:GREGORIAN
BEGIN:VEVENT
SUMMARY:Regionaler Fokus: Das Auge Von Dresden – Retrospektive Ernst Hirsch
DTSTART:20260415T170000Z
LOCATION:Clubkino im Lingnerschloss\, Bautzner Straße 132\, 01099 Dresden
DESCRIPTION:
URL;VALUE=URI:http://public.kika-dresden.de/termin1593269.html
DTSTAMP:20260425T215336Z
UID:69ed37e00e6dd
END:VEVENT
END:VCALENDAR