BEGIN:VCALENDAR
VERSION:2.0
PRODID:-//hacksw/handcal//NONSGML v1.0//EN
CALSCALE:GREGORIAN
BEGIN:VEVENT
SUMMARY:Meine Wiedergeburt als Schleim in einer anderen Welt\, Der Film: Tränen des azurblauen Meers
DTSTART:20260503T150000Z
DTEND:20260503T172400Z
GEO:51.04487;13.73697
LOCATION:Rundkino Dresden\, Prager Straße 6\, 01069 Dresden
DESCRIPTION:
URL;VALUE=URI:http://public.kika-dresden.de/termin1593650.html
DTSTAMP:20260425T180156Z
UID:69ed019456989
END:VEVENT
END:VCALENDAR