BEGIN:VCALENDAR
VERSION:2.0
PRODID:-//hacksw/handcal//NONSGML v1.0//EN
CALSCALE:GREGORIAN
BEGIN:VEVENT
SUMMARY:NOMINIERTE: LUCA-FILMPREIS FÜR GESCHLECHTERGERECHTIGKEIT
DTSTART:20260416T150000Z
GEO:51.07124;13.75051
LOCATION:Filmtheater Schauburg\, Königsbrücker Straße 55\, 01099 Dresden
DESCRIPTION:
URL;VALUE=URI:http://public.kika-dresden.de/termin1594532.html
DTSTAMP:20260425T151601Z
UID:69ecdab17d215
END:VEVENT
END:VCALENDAR