BEGIN:VCALENDAR
VERSION:2.0
PRODID:-//hacksw/handcal//NONSGML v1.0//EN
CALSCALE:GREGORIAN
BEGIN:VEVENT
SUMMARY:Kids 3: NIEMAND IST PERFEKT
DTSTART:20260417T133000Z
DTEND:20260417T152000Z
GEO:51.07124;13.75051
LOCATION:Filmtheater Schauburg\, Königsbrücker Straße 55\, 01099 Dresden
DESCRIPTION:
URL;VALUE=URI:http://public.kika-dresden.de/termin1594546.html
DTSTAMP:20260420T090616Z
UID:69e5ec880d256
END:VEVENT
END:VCALENDAR