BEGIN:VCALENDAR
VERSION:2.0
PRODID:-//hacksw/handcal//NONSGML v1.0//EN
CALSCALE:GREGORIAN
BEGIN:VEVENT
SUMMARY:SCHWERPUNKT 3: Cloud Nine to Five
DTSTART:20260418T170000Z
GEO:51.07124;13.75051
LOCATION:Filmtheater Schauburg\, Königsbrücker Straße 55\, 01099 Dresden
DESCRIPTION:
URL;VALUE=URI:http://public.kika-dresden.de/termin1594559.html
DTSTAMP:20260419T161159Z
UID:69e4fecfb58f9
END:VEVENT
END:VCALENDAR