BEGIN:VCALENDAR
VERSION:2.0
PRODID:-//hacksw/handcal//NONSGML v1.0//EN
CALSCALE:GREGORIAN
BEGIN:VEVENT
SUMMARY:Matinée für Wilhelm Hein – Hommage an einen Filmvisionär
DTSTART:20260419T090000Z
GEO:51.07124;13.75051
LOCATION:Filmtheater Schauburg\, Königsbrücker Straße 55\, 01099 Dresden
DESCRIPTION:
URL;VALUE=URI:http://public.kika-dresden.de/termin1594603.html
DTSTAMP:20260424T204036Z
UID:69ebd544d820f
END:VEVENT
END:VCALENDAR