BEGIN:VCALENDAR
VERSION:2.0
PRODID:-//hacksw/handcal//NONSGML v1.0//EN
CALSCALE:GREGORIAN
BEGIN:VEVENT
SUMMARY:Regionaler Fokus: Das Auge von Dresden – Retrospektive Ernst Hirsch
DTSTART:20260419T153000Z
GEO:51.07124;13.75051
LOCATION:Filmtheater Schauburg\, Königsbrücker Straße 55\, 01099 Dresden
DESCRIPTION:
URL;VALUE=URI:http://public.kika-dresden.de/termin1594605.html
DTSTAMP:20260424T233853Z
UID:69ebff0d859dc
END:VEVENT
END:VCALENDAR