BEGIN:VCALENDAR
VERSION:2.0
PRODID:-//hacksw/handcal//NONSGML v1.0//EN
CALSCALE:GREGORIAN
BEGIN:VEVENT
SUMMARY:Meine Freundin Conni - Abenteuer mt Kranich Klaus
DTSTART:20260510T100000Z
DTEND:20260510T114800Z
GEO:51.04384;13.73755
LOCATION:Cineplex Kristallpalast Dresden\, St. Petersburger Straße 24a\, 01069 Dresden
DESCRIPTION:
URL;VALUE=URI:http://public.kika-dresden.de/termin1595623.html
DTSTAMP:20260421T090108Z
UID:69e73cd4d5d1e
END:VEVENT
END:VCALENDAR