BEGIN:VCALENDAR
VERSION:2.0
PRODID:-//hacksw/handcal//NONSGML v1.0//EN
CALSCALE:GREGORIAN
BEGIN:VEVENT
SUMMARY:Horst Schlämmer sucht das Glück
DTSTART:20260405T183000Z
GEO:51.05182;13.80533
LOCATION:CinemaxX\, Hüblerstr. 8\, 01309 Dresden
DESCRIPTION:
URL;VALUE=URI:http://public.kika-dresden.de/termin1596185.html
DTSTAMP:20260420T121217Z
UID:69e618212106a
END:VEVENT
END:VCALENDAR