BEGIN:VCALENDAR
VERSION:2.0
PRODID:-//hacksw/handcal//NONSGML v1.0//EN
CALSCALE:GREGORIAN
BEGIN:VEVENT
SUMMARY:Das Drama
DTSTART:20260421T160000Z
DTEND:20260421T181500Z
GEO:51.03911;13.80653
LOCATION:Programmkino Ost\, Schandauer Straße 73\, 01277 Dresden-Striesen
DESCRIPTION:
URL;VALUE=URI:http://public.kika-dresden.de/termin1598169.html
DTSTAMP:20260419T183026Z
UID:69e51f425b2b8
END:VEVENT
END:VCALENDAR