BEGIN:VCALENDAR
VERSION:2.0
PRODID:-//hacksw/handcal//NONSGML v1.0//EN
CALSCALE:GREGORIAN
BEGIN:VEVENT
SUMMARY:Kokuho - Meister des Kabuki
DTSTART:20260422T143000Z
DTEND:20260422T175600Z
GEO:51.03911;13.80653
LOCATION:Programmkino Ost\, Schandauer Straße 73\, 01277 Dresden-Striesen
DESCRIPTION:
URL;VALUE=URI:http://public.kika-dresden.de/termin1598249.html
DTSTAMP:20260420T161345Z
UID:69e650b9d152a
END:VEVENT
END:VCALENDAR