BEGIN:VCALENDAR
VERSION:2.0
PRODID:-//hacksw/handcal//NONSGML v1.0//EN
CALSCALE:GREGORIAN
BEGIN:VEVENT
SUMMARY:Der Super Mario Galaxy Film
DTSTART:20260421T181500Z
DTEND:20260421T202300Z
GEO:51.08285;13.69562
LOCATION:UCI-Kinowelt\, Lommatzscher Straße 82\, Elbepark\, 01139 Dresden-Mickten
DESCRIPTION:
URL;VALUE=URI:http://public.kika-dresden.de/termin1598452.html
DTSTAMP:20260420T171904Z
UID:69e6600846b7e
END:VEVENT
END:VCALENDAR