BEGIN:VCALENDAR
VERSION:2.0
PRODID:-//hacksw/handcal//NONSGML v1.0//EN
CALSCALE:GREGORIAN
BEGIN:VEVENT
SUMMARY:Für immer ein Teil von dir - Reminders of Him
DTSTART:20260422T121500Z
DTEND:20260422T144000Z
GEO:51.04487;13.73697
LOCATION:Rundkino Dresden\, Prager Straße 6\, 01069 Dresden
DESCRIPTION:
URL;VALUE=URI:http://public.kika-dresden.de/termin1598742.html
DTSTAMP:20260419T161218Z
UID:69e4fee29e33c
END:VEVENT
END:VCALENDAR