BEGIN:VCALENDAR
VERSION:2.0
PRODID:-//hacksw/handcal//NONSGML v1.0//EN
CALSCALE:GREGORIAN
BEGIN:VEVENT
SUMMARY:Das Drama - Noch mal auf Anfang
DTSTART:20260417T150000Z
DTEND:20260417T171500Z
GEO:51.04384;13.73755
LOCATION:Cineplex Kristallpalast Dresden\, St. Petersburger Straße 24a\, 01069 Dresden
DESCRIPTION:
URL;VALUE=URI:http://public.kika-dresden.de/termin1598852.html
DTSTAMP:20260419T162308Z
UID:69e5016c99ab9
END:VEVENT
END:VCALENDAR