BEGIN:VCALENDAR
VERSION:2.0
PRODID:-//hacksw/handcal//NONSGML v1.0//EN
CALSCALE:GREGORIAN
BEGIN:VEVENT
SUMMARY:Das Drama - Noch mal auf Anfang
DTSTART:20260421T154500Z
DTEND:20260421T180000Z
GEO:51.05182;13.80533
LOCATION:CinemaxX\, Hüblerstr. 8\, 01309 Dresden
DESCRIPTION:
URL;VALUE=URI:http://public.kika-dresden.de/termin1599178.html
DTSTAMP:20260421T080816Z
UID:69e73070853f3
END:VEVENT
END:VCALENDAR