BEGIN:VCALENDAR
VERSION:2.0
PRODID:-//hacksw/handcal//NONSGML v1.0//EN
CALSCALE:GREGORIAN
BEGIN:VEVENT
SUMMARY:Vier minus Drei
DTSTART:20260427T174500Z
DTEND:20260427T201500Z
GEO:51.052574;13.721402
LOCATION:Zentralkino\, Kraftwerk Mitte 16\, 01067 Dresden-Mitte
DESCRIPTION:
URL;VALUE=URI:http://public.kika-dresden.de/termin1599470.html
DTSTAMP:20260425T122439Z
UID:69ecb287428c7
END:VEVENT
END:VCALENDAR