BEGIN:VCALENDAR
VERSION:2.0
PRODID:-//hacksw/handcal//NONSGML v1.0//EN
CALSCALE:GREGORIAN
BEGIN:VEVENT
SUMMARY:Die Reichste Frau Der Welt
DTSTART:20260424T180000Z
DTEND:20260424T203100Z
GEO:51.052574;13.721402
LOCATION:Zentralkino\, Kraftwerk Mitte 16\, 01067 Dresden-Mitte
DESCRIPTION:
URL;VALUE=URI:http://public.kika-dresden.de/termin1599481.html
DTSTAMP:20260426T022720Z
UID:69ed7808626fa
END:VEVENT
END:VCALENDAR