BEGIN:VCALENDAR
VERSION:2.0
PRODID:-//hacksw/handcal//NONSGML v1.0//EN
CALSCALE:GREGORIAN
BEGIN:VEVENT
SUMMARY:Vier minus drei
DTSTART:20260422T090000Z
DTEND:20260422T113100Z
GEO:51.03911;13.80653
LOCATION:Programmkino Ost\, Schandauer Straße 73\, 01277 Dresden-Striesen
DESCRIPTION:
URL;VALUE=URI:http://public.kika-dresden.de/termin1599536.html
DTSTAMP:20260425T122452Z
UID:69ecb29440ff4
END:VEVENT
END:VCALENDAR