BEGIN:VCALENDAR
VERSION:2.0
PRODID:-//hacksw/handcal//NONSGML v1.0//EN
CALSCALE:GREGORIAN
BEGIN:VEVENT
SUMMARY:Calle Málaga - Ein Zuhause in Tanger
DTSTART:20260425T130000Z
DTEND:20260425T152600Z
GEO:51.03911;13.80653
LOCATION:Programmkino Ost\, Schandauer Straße 73\, 01277 Dresden-Striesen
DESCRIPTION:
URL;VALUE=URI:http://public.kika-dresden.de/termin1599580.html
DTSTAMP:20260425T232351Z
UID:69ed4d07f3fe4
END:VEVENT
END:VCALENDAR