BEGIN:VCALENDAR
VERSION:2.0
PRODID:-//hacksw/handcal//NONSGML v1.0//EN
CALSCALE:GREGORIAN
BEGIN:VEVENT
SUMMARY:Das Drama
DTSTART:20260422T180000Z
DTEND:20260422T201500Z
GEO:51.03911;13.80653
LOCATION:Programmkino Ost\, Schandauer Straße 73\, 01277 Dresden-Striesen
DESCRIPTION:
URL;VALUE=URI:http://public.kika-dresden.de/termin1599585.html
DTSTAMP:20260426T042342Z
UID:69ed934ebe3fc
END:VEVENT
END:VCALENDAR