BEGIN:VCALENDAR
VERSION:2.0
PRODID:-//hacksw/handcal//NONSGML v1.0//EN
CALSCALE:GREGORIAN
BEGIN:VEVENT
SUMMARY:Das Drama
DTSTART:20260425T153000Z
DTEND:20260425T174500Z
GEO:51.03911;13.80653
LOCATION:Programmkino Ost\, Schandauer Straße 73\, 01277 Dresden-Striesen
DESCRIPTION:
URL;VALUE=URI:http://public.kika-dresden.de/termin1599588.html
DTSTAMP:20260426T014215Z
UID:69ed6d77c68e4
END:VEVENT
END:VCALENDAR