BEGIN:VCALENDAR
VERSION:2.0
PRODID:-//hacksw/handcal//NONSGML v1.0//EN
CALSCALE:GREGORIAN
BEGIN:VEVENT
SUMMARY:Hirten
DTSTART:20260510T151500Z
DTEND:20260510T173800Z
GEO:51.03911;13.80653
LOCATION:Programmkino Ost\, Schandauer Straße 73\, 01277 Dresden-Striesen
DESCRIPTION:
URL;VALUE=URI:http://public.kika-dresden.de/termin1599675.html
DTSTAMP:20260426T014515Z
UID:69ed6e2b730cc
END:VEVENT
END:VCALENDAR