BEGIN:VCALENDAR
VERSION:2.0
PRODID:-//hacksw/handcal//NONSGML v1.0//EN
CALSCALE:GREGORIAN
BEGIN:VEVENT
SUMMARY:Down and Out in Paris
DTSTART:20260508T161500Z
DTEND:20260508T181700Z
GEO:51.03911;13.80653
LOCATION:Programmkino Ost\, Schandauer Straße 73\, 01277 Dresden-Striesen
DESCRIPTION:
URL;VALUE=URI:http://public.kika-dresden.de/termin1599678.html
DTSTAMP:20260426T031120Z
UID:69ed8258e80e7
END:VEVENT
END:VCALENDAR