BEGIN:VCALENDAR
VERSION:2.0
PRODID:-//hacksw/handcal//NONSGML v1.0//EN
CALSCALE:GREGORIAN
BEGIN:VEVENT
SUMMARY:Guru
DTSTART:20260511T174500Z
DTEND:20260511T202100Z
GEO:51.03911;13.80653
LOCATION:Programmkino Ost\, Schandauer Straße 73\, 01277 Dresden-Striesen
DESCRIPTION:
URL;VALUE=URI:http://public.kika-dresden.de/termin1599687.html
DTSTAMP:20260426T014537Z
UID:69ed6e412b3bd
END:VEVENT
END:VCALENDAR