BEGIN:VCALENDAR
VERSION:2.0
PRODID:-//hacksw/handcal//NONSGML v1.0//EN
CALSCALE:GREGORIAN
BEGIN:VEVENT
SUMMARY:Couscous und Geheimnisse
DTSTART:20260509T161500Z
DTEND:20260509T183000Z
GEO:51.03911;13.80653
LOCATION:Programmkino Ost\, Schandauer Straße 73\, 01277 Dresden-Striesen
DESCRIPTION:
URL;VALUE=URI:http://public.kika-dresden.de/termin1599688.html
DTSTAMP:20260426T014230Z
UID:69ed6d8603df9
END:VEVENT
END:VCALENDAR