BEGIN:VCALENDAR
VERSION:2.0
PRODID:-//hacksw/handcal//NONSGML v1.0//EN
CALSCALE:GREGORIAN
BEGIN:VEVENT
SUMMARY:Checker Tobi 3 - Die heimliche Herrscherin der Erde
DTSTART:20260423T121000Z
DTEND:20260423T141300Z
GEO:51.08285;13.69562
LOCATION:UCI-Kinowelt\, Lommatzscher Straße 82\, Elbepark\, 01139 Dresden-Mickten
DESCRIPTION:
URL;VALUE=URI:http://public.kika-dresden.de/termin1599745.html
DTSTAMP:20260423T135500Z
UID:69ea24b4382f4
END:VEVENT
END:VCALENDAR