BEGIN:VCALENDAR
VERSION:2.0
PRODID:-//hacksw/handcal//NONSGML v1.0//EN
CALSCALE:GREGORIAN
BEGIN:VEVENT
SUMMARY:Der Super Mario Galaxy Film
DTSTART:20260421T150000Z
DTEND:20260421T170800Z
GEO:51.08285;13.69562
LOCATION:UCI-Kinowelt\, Lommatzscher Straße 82\, Elbepark\, 01139 Dresden-Mickten
DESCRIPTION:
URL;VALUE=URI:http://public.kika-dresden.de/termin1599806.html
DTSTAMP:20260421T162417Z
UID:69e7a4b10b1b4
END:VEVENT
END:VCALENDAR