BEGIN:VCALENDAR
VERSION:2.0
PRODID:-//hacksw/handcal//NONSGML v1.0//EN
CALSCALE:GREGORIAN
BEGIN:VEVENT
SUMMARY:Meine Wiedergeburt als Schleim in einer anderen Welt\, Der Film: Tränen des azurblauen Meers
DTSTART:20260428T151500Z
DTEND:20260428T173900Z
GEO:51.08285;13.69562
LOCATION:UCI-Kinowelt\, Lommatzscher Straße 82\, Elbepark\, 01139 Dresden-Mickten
DESCRIPTION:
URL;VALUE=URI:http://public.kika-dresden.de/termin1599927.html
DTSTAMP:20260423T062206Z
UID:69e9ba8e33945
END:VEVENT
END:VCALENDAR