BEGIN:VCALENDAR
VERSION:2.0
PRODID:-//hacksw/handcal//NONSGML v1.0//EN
CALSCALE:GREGORIAN
BEGIN:VEVENT
SUMMARY:Der Astronaut - Project Hail Mary
DTSTART:20260423T120000Z
DTEND:20260423T150600Z
GEO:51.04487;13.73697
LOCATION:Rundkino Dresden\, Prager Straße 6\, 01069 Dresden
DESCRIPTION:
URL;VALUE=URI:http://public.kika-dresden.de/termin1600098.html
DTSTAMP:20260425T181117Z
UID:69ed03c53108b
END:VEVENT
END:VCALENDAR