BEGIN:VCALENDAR
VERSION:2.0
PRODID:-//hacksw/handcal//NONSGML v1.0//EN
CALSCALE:GREGORIAN
BEGIN:VEVENT
SUMMARY:Der Super Mario Galaxy Film
DTSTART:20260426T122000Z
DTEND:20260426T142800Z
GEO:51.04384;13.73755
LOCATION:Cineplex Kristallpalast Dresden\, St. Petersburger Straße 24a\, 01069 Dresden
DESCRIPTION:
URL;VALUE=URI:http://public.kika-dresden.de/termin1600156.html
DTSTAMP:20260423T200709Z
UID:69ea7bed0bf5d
END:VEVENT
END:VCALENDAR