BEGIN:VCALENDAR
VERSION:2.0
PRODID:-//hacksw/handcal//NONSGML v1.0//EN
CALSCALE:GREGORIAN
BEGIN:VEVENT
SUMMARY:Vier minus Drei
DTSTART:20260422T104500Z
DTEND:20260422T131500Z
GEO:51.07124;13.75051
LOCATION:Filmtheater Schauburg\, Königsbrücker Straße 55\, 01099 Dresden
DESCRIPTION:
URL;VALUE=URI:http://public.kika-dresden.de/termin1600298.html
DTSTAMP:20260425T122444Z
UID:69ecb28c3fc5b
END:VEVENT
END:VCALENDAR