BEGIN:VCALENDAR
VERSION:2.0
PRODID:-//hacksw/handcal//NONSGML v1.0//EN
CALSCALE:GREGORIAN
BEGIN:VEVENT
SUMMARY:Der Super Mario Galaxy Film
DTSTART:20260424T133000Z
DTEND:20260424T153800Z
GEO:51.05182;13.80533
LOCATION:CinemaxX\, Hüblerstr. 8\, 01309 Dresden
DESCRIPTION:
URL;VALUE=URI:http://public.kika-dresden.de/termin1600353.html
DTSTAMP:20260425T121646Z
UID:69ecb0ae73e82
END:VEVENT
END:VCALENDAR