BEGIN:VCALENDAR
VERSION:2.0
PRODID:-//hacksw/handcal//NONSGML v1.0//EN
CALSCALE:GREGORIAN
BEGIN:VEVENT
SUMMARY:Der Super Mario Galaxy Film
DTSTART:20260428T143000Z
DTEND:20260428T163800Z
GEO:51.05182;13.80533
LOCATION:CinemaxX\, Hüblerstr. 8\, 01309 Dresden
DESCRIPTION:
URL;VALUE=URI:http://public.kika-dresden.de/termin1600374.html
DTSTAMP:20260426T022635Z
UID:69ed77db5d66b
END:VEVENT
END:VCALENDAR