BEGIN:VCALENDAR
VERSION:2.0
PRODID:-//hacksw/handcal//NONSGML v1.0//EN
CALSCALE:GREGORIAN
BEGIN:VEVENT
SUMMARY:Der Super Mario Galaxy Film
DTSTART:20260426T140000Z
DTEND:20260426T160800Z
GEO:51.05182;13.80533
LOCATION:CinemaxX\, Hüblerstr. 8\, 01309 Dresden
DESCRIPTION:
URL;VALUE=URI:http://public.kika-dresden.de/termin1600391.html
DTSTAMP:20260425T121626Z
UID:69ecb09a732b9
END:VEVENT
END:VCALENDAR