BEGIN:VCALENDAR
VERSION:2.0
PRODID:-//hacksw/handcal//NONSGML v1.0//EN
CALSCALE:GREGORIAN
BEGIN:VEVENT
SUMMARY:Die reichste Frau der Welt
DTSTART:20260424T184500Z
DTEND:20260424T211600Z
GEO:51.07124;13.75051
LOCATION:Filmtheater Schauburg\, Königsbrücker Straße 55\, 01099 Dresden
DESCRIPTION:
URL;VALUE=URI:http://public.kika-dresden.de/termin1600750.html
DTSTAMP:20260423T200645Z
UID:69ea7bd544277
END:VEVENT
END:VCALENDAR