BEGIN:VCALENDAR
VERSION:2.0
PRODID:-//hacksw/handcal//NONSGML v1.0//EN
CALSCALE:GREGORIAN
BEGIN:VEVENT
SUMMARY:How To Make A Killing - Todsicheres Erbe
DTSTART:20260425T211500Z
DTEND:20260425T233100Z
GEO:51.07124;13.75051
LOCATION:Filmtheater Schauburg\, Königsbrücker Straße 55\, 01099 Dresden
DESCRIPTION:
URL;VALUE=URI:http://public.kika-dresden.de/termin1600786.html
DTSTAMP:20260425T000030Z
UID:69ec041e83d05
END:VEVENT
END:VCALENDAR